BEGIN:VCALENDAR
PRODID:-//AT Content Types//AT Event//EN
VERSION:2.0
METHOD:PUBLISH
BEGIN:VEVENT
DTSTAMP:20260421T111030Z
CREATED:20100521T143222Z
UID:ATEvent-6a2a5c9f4be201a8d85406cf970da21a
LAST-MODIFIED:20100521T143222Z
SUMMARY:Prof. Anne-Marie Kermarrec teaches a Research Seminar on Peer to Peer Systems and Applications
DTSTART:20100530T220000Z
DTEND:20100602T220000Z
DESCRIPTION:Prof. Anne-Marie Kermarrec teaches a Research Seminar on P
 eer to Peer Systems and Applications\nDate: from  31st of May to 3rd o
 f June\, from 17:00to 19:00.
CLASS:PUBLIC
END:VEVENT
END:VCALENDAR
