BEGIN:VCALENDAR
PRODID:-//AT Content Types//AT Event//EN
VERSION:2.0
METHOD:PUBLISH
BEGIN:VEVENT
DTSTAMP:20260421T100615Z
CREATED:20070114T215520Z
UID:ATEvent-60b44325aa8fd618ba9fa2ed6c9188d9
LAST-MODIFIED:20070114T215726Z
SUMMARY:EuroPar Conference 2007
DTSTART:20070828T075500Z
DTEND:20070831T205500Z
LOCATION:Rennes\, France
URL:http://europar2007.irisa.fr/
CLASS:PUBLIC
END:VEVENT
END:VCALENDAR
